BEGIN:VCALENDAR
VERSION:2.0
PRODID:-//Die Party Ritter - ECPv6.15.20//NONSGML v1.0//EN
CALSCALE:GREGORIAN
METHOD:PUBLISH
X-ORIGINAL-URL:https://die-party-ritter.de
X-WR-CALDESC:Veranstaltungen für Die Party Ritter
REFRESH-INTERVAL;VALUE=DURATION:PT1H
X-Robots-Tag:noindex
X-PUBLISHED-TTL:PT1H
BEGIN:VTIMEZONE
TZID:Europe/Berlin
BEGIN:DAYLIGHT
TZOFFSETFROM:+0100
TZOFFSETTO:+0200
TZNAME:CEST
DTSTART:20250330T010000
END:DAYLIGHT
BEGIN:STANDARD
TZOFFSETFROM:+0200
TZOFFSETTO:+0100
TZNAME:CET
DTSTART:20251026T010000
END:STANDARD
BEGIN:DAYLIGHT
TZOFFSETFROM:+0100
TZOFFSETTO:+0200
TZNAME:CEST
DTSTART:20260329T010000
END:DAYLIGHT
BEGIN:STANDARD
TZOFFSETFROM:+0200
TZOFFSETTO:+0100
TZNAME:CET
DTSTART:20261025T010000
END:STANDARD
BEGIN:DAYLIGHT
TZOFFSETFROM:+0100
TZOFFSETTO:+0200
TZNAME:CEST
DTSTART:20270328T010000
END:DAYLIGHT
BEGIN:STANDARD
TZOFFSETFROM:+0200
TZOFFSETTO:+0100
TZNAME:CET
DTSTART:20271031T010000
END:STANDARD
END:VTIMEZONE
BEGIN:VEVENT
DTSTART;TZID=Europe/Berlin:20260802T100000
DTEND;TZID=Europe/Berlin:20260802T143000
DTSTAMP:20260420T032038
CREATED:20260317T171345Z
LAST-MODIFIED:20260317T171345Z
UID:2110-1785664800-1785681000@die-party-ritter.de
SUMMARY:Traktortreffen Großmehlra
DESCRIPTION:Wir sind wieder dabei\, mit dem Wirtshaus-Blech  100% LIVE !!!
URL:https://die-party-ritter.de/event/traktortreffen-grossmehlra/
LOCATION:Fuhrmannschänke Großmehlra\, Hauptstraße 23\, Nottertal-Heilinger Höhen OT Großmehlra\, 99994
END:VEVENT
BEGIN:VEVENT
DTSTART;TZID=Europe/Berlin:20260821T173000
DTEND;TZID=Europe/Berlin:20260821T203000
DTSTAMP:20260420T032038
CREATED:20260126T102414Z
LAST-MODIFIED:20260126T102414Z
UID:2075-1787333400-1787344200@die-party-ritter.de
SUMMARY:Eröffnung Rudolstädter Vogelschießen
DESCRIPTION:wir sind wieder dabei\, zur Eröffnung des Rudolstädter Vogelschießens mit der Ritter-Jatz-Bänd  100 % LIVE !!!
URL:https://die-party-ritter.de/event/eroeffnung-rudolstaedter-vogelschiessen-3/
LOCATION:Rudolstädter Vogelschießen\, Röntgenstraße 2D\, Rudolstadt\, 07407
END:VEVENT
BEGIN:VEVENT
DTSTART;TZID=Europe/Berlin:20260829T130000
DTEND;TZID=Europe/Berlin:20260829T153000
DTSTAMP:20260420T032038
CREATED:20260126T103029Z
LAST-MODIFIED:20260126T103029Z
UID:2078-1788008400-1788017400@die-party-ritter.de
SUMMARY:Saalefest Weißenfels
DESCRIPTION:Das Saalefest steht an und wir sind dabei mit dem Wirthshaus-Blech  100 % LIVE
URL:https://die-party-ritter.de/event/saalefest-weissenfels-2/
LOCATION:Bühne Bootsverleih\, Dammstraße 1\, Weißenfels\, 06667
END:VEVENT
END:VCALENDAR