BEGIN:VCALENDAR
VERSION:2.0
PRODID:-//Die Party Ritter - ECPv6.15.20//NONSGML v1.0//EN
CALSCALE:GREGORIAN
METHOD:PUBLISH
X-WR-CALNAME:Die Party Ritter
X-ORIGINAL-URL:https://die-party-ritter.de
X-WR-CALDESC:Veranstaltungen für Die Party Ritter
REFRESH-INTERVAL;VALUE=DURATION:PT1H
X-Robots-Tag:noindex
X-PUBLISHED-TTL:PT1H
BEGIN:VTIMEZONE
TZID:Europe/Berlin
BEGIN:DAYLIGHT
TZOFFSETFROM:+0100
TZOFFSETTO:+0200
TZNAME:CEST
DTSTART:20240331T010000
END:DAYLIGHT
BEGIN:STANDARD
TZOFFSETFROM:+0200
TZOFFSETTO:+0100
TZNAME:CET
DTSTART:20241027T010000
END:STANDARD
BEGIN:DAYLIGHT
TZOFFSETFROM:+0100
TZOFFSETTO:+0200
TZNAME:CEST
DTSTART:20250330T010000
END:DAYLIGHT
BEGIN:STANDARD
TZOFFSETFROM:+0200
TZOFFSETTO:+0100
TZNAME:CET
DTSTART:20251026T010000
END:STANDARD
BEGIN:DAYLIGHT
TZOFFSETFROM:+0100
TZOFFSETTO:+0200
TZNAME:CEST
DTSTART:20260329T010000
END:DAYLIGHT
BEGIN:STANDARD
TZOFFSETFROM:+0200
TZOFFSETTO:+0100
TZNAME:CET
DTSTART:20261025T010000
END:STANDARD
END:VTIMEZONE
BEGIN:VEVENT
DTSTART;TZID=Europe/Berlin:20251221T153000
DTEND;TZID=Europe/Berlin:20251221T170000
DTSTAMP:20260420T061836
CREATED:20250306T155301Z
LAST-MODIFIED:20250306T155301Z
UID:2007-1766331000-1766336400@die-party-ritter.de
SUMMARY:Thalenser Advendsmarkt
DESCRIPTION:Wir sind LIVE mit der RITTER-JATZ-BÄND in Thale\, zum wunderschönen Advendsmarkt
URL:https://die-party-ritter.de/event/thalenser-advendsmarkt/
LOCATION:Thalenser Advendsmarkt\, Rathausplatz\, Thale\, 06502
END:VEVENT
END:VCALENDAR