BEGIN:VCALENDAR
VERSION:2.0
PRODID:-//Die Party Ritter - ECPv6.15.20//NONSGML v1.0//EN
CALSCALE:GREGORIAN
METHOD:PUBLISH
X-WR-CALNAME:Die Party Ritter
X-ORIGINAL-URL:https://die-party-ritter.de
X-WR-CALDESC:Veranstaltungen für Die Party Ritter
REFRESH-INTERVAL;VALUE=DURATION:PT1H
X-Robots-Tag:noindex
X-PUBLISHED-TTL:PT1H
BEGIN:VTIMEZONE
TZID:Europe/Berlin
BEGIN:DAYLIGHT
TZOFFSETFROM:+0100
TZOFFSETTO:+0200
TZNAME:CEST
DTSTART:20240331T010000
END:DAYLIGHT
BEGIN:STANDARD
TZOFFSETFROM:+0200
TZOFFSETTO:+0100
TZNAME:CET
DTSTART:20241027T010000
END:STANDARD
BEGIN:DAYLIGHT
TZOFFSETFROM:+0100
TZOFFSETTO:+0200
TZNAME:CEST
DTSTART:20250330T010000
END:DAYLIGHT
BEGIN:STANDARD
TZOFFSETFROM:+0200
TZOFFSETTO:+0100
TZNAME:CET
DTSTART:20251026T010000
END:STANDARD
BEGIN:DAYLIGHT
TZOFFSETFROM:+0100
TZOFFSETTO:+0200
TZNAME:CEST
DTSTART:20260329T010000
END:DAYLIGHT
BEGIN:STANDARD
TZOFFSETFROM:+0200
TZOFFSETTO:+0100
TZNAME:CET
DTSTART:20261025T010000
END:STANDARD
END:VTIMEZONE
BEGIN:VEVENT
DTSTART;TZID=Europe/Berlin:20250905T160000
DTEND;TZID=Europe/Berlin:20250905T190000
DTSTAMP:20260420T113047
CREATED:20241009T145128Z
LAST-MODIFIED:20241009T145128Z
UID:1958-1757088000-1757098800@die-party-ritter.de
SUMMARY:Konzertsommer Holzwickede
DESCRIPTION:mit einem Konzert der Ritter-Jatz-Bänd LIVE sind wir beim Konzertsommer in Holwickede dabei
URL:https://die-party-ritter.de/event/konzertsommer-holzwickede/
LOCATION:Marktplatz Holzwickede\, Allee 5\, Holzwickede\, 59439
END:VEVENT
BEGIN:VEVENT
DTSTART;TZID=Europe/Berlin:20250906T110000
DTEND;TZID=Europe/Berlin:20250906T180000
DTSTAMP:20260420T113047
CREATED:20241114T140447Z
LAST-MODIFIED:20241114T140447Z
UID:1965-1757156400-1757181600@die-party-ritter.de
SUMMARY:Klosterfest Dietenborn
DESCRIPTION:..auf geht´s zum Klosterfest und das mit dem Wirtshaus-Blech 100% LIVE !!!
URL:https://die-party-ritter.de/event/klosterfest-dietenborn/
LOCATION:Kloster Dietenborn\, Helbetalstrasse 9\, Sondershausen OT Dietenborn\, 99706
END:VEVENT
BEGIN:VEVENT
DTSTART;TZID=Europe/Berlin:20250914T120000
DTEND;TZID=Europe/Berlin:20250914T180000
DTSTAMP:20260420T113047
CREATED:20241009T144137Z
LAST-MODIFIED:20241009T144137Z
UID:1952-1757851200-1757872800@die-party-ritter.de
SUMMARY:Saalfelder Bierfest
DESCRIPTION:wir freuen uns auf das Saalfelder Bierfest da gibt es das Wirtshaus-Blech LIVE
URL:https://die-party-ritter.de/event/saalfelder-bierfest/
LOCATION:Marktplatz Saalfeld\, Marktplatz\, Saalfeld\, 07318
END:VEVENT
BEGIN:VEVENT
DTSTART;TZID=Europe/Berlin:20250927T110000
DTEND;TZID=Europe/Berlin:20250927T150000
DTSTAMP:20260420T113047
CREATED:20250527T145427Z
LAST-MODIFIED:20250527T145427Z
UID:2022-1758970800-1758985200@die-party-ritter.de
SUMMARY:Oktoberfest Erfurt
DESCRIPTION:wir sind mit dem Wirtshaus-Blech wieder  100 % LIVE dabei
URL:https://die-party-ritter.de/event/oktoberfest-erfurt/
LOCATION:Oktoberfestzelt Domplatz\, Domplatz\, Erfurt\, 99087
END:VEVENT
BEGIN:VEVENT
DTSTART;TZID=Europe/Berlin:20250928T100000
DTEND;TZID=Europe/Berlin:20250928T150000
DTSTAMP:20260420T113047
CREATED:20250306T154423Z
LAST-MODIFIED:20250306T154423Z
UID:1999-1759053600-1759071600@die-party-ritter.de
SUMMARY:Oktoberfest-Frühschoppen in Kölleda
DESCRIPTION:Das Wirtshaus-Blech LIVE !!! \nWir freuen uns auf den Oktoberfest-Früphschoppen in Kölleda
URL:https://die-party-ritter.de/event/oktoberfest-fruehschoppen-in-koelleda/
LOCATION:Rittergut Kölleda\, Roßplatz 2A\, Kölleda\, 99625
END:VEVENT
END:VCALENDAR