BEGIN:VCALENDAR
VERSION:2.0
PRODID:-//Die Party Ritter - ECPv6.15.20//NONSGML v1.0//EN
CALSCALE:GREGORIAN
METHOD:PUBLISH
X-ORIGINAL-URL:https://die-party-ritter.de
X-WR-CALDESC:Veranstaltungen für Die Party Ritter
REFRESH-INTERVAL;VALUE=DURATION:PT1H
X-Robots-Tag:noindex
X-PUBLISHED-TTL:PT1H
BEGIN:VTIMEZONE
TZID:Europe/Berlin
BEGIN:DAYLIGHT
TZOFFSETFROM:+0100
TZOFFSETTO:+0200
TZNAME:CEST
DTSTART:20240331T010000
END:DAYLIGHT
BEGIN:STANDARD
TZOFFSETFROM:+0200
TZOFFSETTO:+0100
TZNAME:CET
DTSTART:20241027T010000
END:STANDARD
BEGIN:DAYLIGHT
TZOFFSETFROM:+0100
TZOFFSETTO:+0200
TZNAME:CEST
DTSTART:20250330T010000
END:DAYLIGHT
BEGIN:STANDARD
TZOFFSETFROM:+0200
TZOFFSETTO:+0100
TZNAME:CET
DTSTART:20251026T010000
END:STANDARD
BEGIN:DAYLIGHT
TZOFFSETFROM:+0100
TZOFFSETTO:+0200
TZNAME:CEST
DTSTART:20260329T010000
END:DAYLIGHT
BEGIN:STANDARD
TZOFFSETFROM:+0200
TZOFFSETTO:+0100
TZNAME:CET
DTSTART:20261025T010000
END:STANDARD
END:VTIMEZONE
BEGIN:VEVENT
DTSTART;TZID=Europe/Berlin:20250802T173000
DTEND;TZID=Europe/Berlin:20250802T203000
DTSTAMP:20260420T131843
CREATED:20250422T100140Z
LAST-MODIFIED:20250422T100140Z
UID:2017-1754155800-1754166600@die-party-ritter.de
SUMMARY:Biergarten-Festival
DESCRIPTION:Wir sind 100% LIVE dabei mit dem Wirtshaus-Blech
URL:https://die-party-ritter.de/event/biergarten-festival/
LOCATION:Biergarten-Festival\, Gailberg\, Katharinenberg\, 99988
END:VEVENT
BEGIN:VEVENT
DTSTART;TZID=Europe/Berlin:20250822T173000
DTEND;TZID=Europe/Berlin:20250822T203000
DTSTAMP:20260420T131843
CREATED:20241009T143318Z
LAST-MODIFIED:20241009T143318Z
UID:1948-1755883800-1755894600@die-party-ritter.de
SUMMARY:Eröffnung Rudolstädter Vogelschießen
DESCRIPTION:Mit der Ritter-Jatz-Bänd dürfen wir wieder das traditionelle Rudolstädter Vogelschießen eröffnen.
URL:https://die-party-ritter.de/event/eroeffnung-rudolstaedter-vogelschiessen-2/
LOCATION:Rudolstädter Vogelschießen\, Röntgenstraße 2D\, Rudolstadt\, 07407
END:VEVENT
BEGIN:VEVENT
DTSTART;TZID=Europe/Berlin:20250831T110000
DTEND;TZID=Europe/Berlin:20250831T140000
DTSTAMP:20260420T131843
CREATED:20241009T143658Z
LAST-MODIFIED:20241009T143658Z
UID:1950-1756638000-1756648800@die-party-ritter.de
SUMMARY:Saalefest Weißenfels
DESCRIPTION:wie sind wieder am Start…das Wirtshaus-Blech LIVE zum Saalefest in Weißenfels \n 
URL:https://die-party-ritter.de/event/saalefest-weissenfels/
LOCATION:Bühne Bootsverleih\, Dammstraße 1\, Weißenfels\, 06667
END:VEVENT
END:VCALENDAR