BEGIN:VCALENDAR
VERSION:2.0
PRODID:-//Die Party Ritter - ECPv6.15.20//NONSGML v1.0//EN
CALSCALE:GREGORIAN
METHOD:PUBLISH
X-ORIGINAL-URL:https://die-party-ritter.de
X-WR-CALDESC:Veranstaltungen für Die Party Ritter
REFRESH-INTERVAL;VALUE=DURATION:PT1H
X-Robots-Tag:noindex
X-PUBLISHED-TTL:PT1H
BEGIN:VTIMEZONE
TZID:Europe/Berlin
BEGIN:DAYLIGHT
TZOFFSETFROM:+0100
TZOFFSETTO:+0200
TZNAME:CEST
DTSTART:20250330T010000
END:DAYLIGHT
BEGIN:STANDARD
TZOFFSETFROM:+0200
TZOFFSETTO:+0100
TZNAME:CET
DTSTART:20251026T010000
END:STANDARD
BEGIN:DAYLIGHT
TZOFFSETFROM:+0100
TZOFFSETTO:+0200
TZNAME:CEST
DTSTART:20260329T010000
END:DAYLIGHT
BEGIN:STANDARD
TZOFFSETFROM:+0200
TZOFFSETTO:+0100
TZNAME:CET
DTSTART:20261025T010000
END:STANDARD
BEGIN:DAYLIGHT
TZOFFSETFROM:+0100
TZOFFSETTO:+0200
TZNAME:CEST
DTSTART:20270328T010000
END:DAYLIGHT
BEGIN:STANDARD
TZOFFSETFROM:+0200
TZOFFSETTO:+0100
TZNAME:CET
DTSTART:20271031T010000
END:STANDARD
END:VTIMEZONE
BEGIN:VEVENT
DTSTART;TZID=Europe/Berlin:20260501T120000
DTEND;TZID=Europe/Berlin:20260501T180000
DTSTAMP:20260419T180513
CREATED:20260103T161710Z
LAST-MODIFIED:20260103T161710Z
UID:2062-1777636800-1777658400@die-party-ritter.de
SUMMARY:Tag der offenen Tür
DESCRIPTION:..mit dem Wirtshaus-Blech 100% LIVE !!! \nWir freuen uns auf viele Gäste in dieser einzigartigen Location
URL:https://die-party-ritter.de/event/tag-der-offenen-tuer-2/
LOCATION:Sophienheilstätte München\, Adolf-Tegtmeier-Alee 15-16\, Bad Berka\, 99438
END:VEVENT
BEGIN:VEVENT
DTSTART;TZID=Europe/Berlin:20260502T100000
DTEND;TZID=Europe/Berlin:20260502T140000
DTSTAMP:20260419T180513
CREATED:20260317T163903Z
LAST-MODIFIED:20260317T163903Z
UID:2096-1777716000-1777730400@die-party-ritter.de
SUMMARY:Gothardusfest - Schlagerschoppen
DESCRIPTION:Wir sind dabei zum traditionellen Gothardusfest und spielen den „Schlagerschoppen“ mit dem Wirtshaus-Blech 100 % LIVE
URL:https://die-party-ritter.de/event/gothardusfest-schlagerschoppen/
LOCATION:Hauptmarkt Gotha\, Hauptmarkt\, Gotha\, 99867
END:VEVENT
BEGIN:VEVENT
DTSTART;TZID=Europe/Berlin:20260524T110000
DTEND;TZID=Europe/Berlin:20260524T170000
DTSTAMP:20260419T180513
CREATED:20260103T162034Z
LAST-MODIFIED:20260103T162034Z
UID:2065-1779620400-1779642000@die-party-ritter.de
SUMMARY:Pfingst-Frühschoppen
DESCRIPTION:mit dem Wirtshaus-Blech 100% LIVE !!! \nWir freuen uns auf die stimmungsgeladene Pfingstgesellschaft und ihre tollen Gäste
URL:https://die-party-ritter.de/event/pfingst-fruehschoppen/
LOCATION:Dorfgemeinschaftshaus Am Bache Weberstedt\, Am Bache\, Weberstedt\, 99947
END:VEVENT
BEGIN:VEVENT
DTSTART;TZID=Europe/Berlin:20260530T110000
DTEND;TZID=Europe/Berlin:20260530T170000
DTSTAMP:20260419T180513
CREATED:20260317T164324Z
LAST-MODIFIED:20260317T164324Z
UID:2099-1780138800-1780160400@die-party-ritter.de
SUMMARY:Maienfest PEP-Markt Eisenach
DESCRIPTION:Wir sind wieder dabei\, zum Maienfest im und am Pep-Markt Eisenach mit der Ritter-Jatz-Bänd 100%LIVE
URL:https://die-party-ritter.de/event/maienfest-pep-markt-eisenach/
LOCATION:PEP-Markt Eisenach\, Neue Wiese 1\, Eisenach\, 99817
END:VEVENT
BEGIN:VEVENT
DTSTART;TZID=Europe/Berlin:20260531T110000
DTEND;TZID=Europe/Berlin:20260531T170000
DTSTAMP:20260419T180513
CREATED:20260103T162439Z
LAST-MODIFIED:20260103T162439Z
UID:2067-1780225200-1780246800@die-party-ritter.de
SUMMARY:Kirmes-Frühschoppen Kerspleben
DESCRIPTION:mit dem Wirtshaus-Blech 100% LIVE \nDas wird uns wieder ein Fest
URL:https://die-party-ritter.de/event/kirmes-fruehschoppen-kerspleben/
LOCATION:Dorfplatz Kerspleben\, Dorfplatz\, Erfurt-Kerspleben\, 99198
END:VEVENT
BEGIN:VEVENT
DTSTART;TZID=Europe/Berlin:20260606T140000
DTEND;TZID=Europe/Berlin:20260606T200000
DTSTAMP:20260419T180513
CREATED:20260317T164908Z
LAST-MODIFIED:20260317T164908Z
UID:2104-1780754400-1780776000@die-party-ritter.de
SUMMARY:Rudolstädter Altstadtfest
DESCRIPTION:Wir freuen uns auf Rudolstadt und das tolle Altstdtfest mit der Ritter-Jatz-Bänd 100% LIVE
URL:https://die-party-ritter.de/event/rudolstaedter-altstadtfest-2/
LOCATION:Marktplatz Rudolstadt\, Markt\, Rudolstadt\, 07407
END:VEVENT
BEGIN:VEVENT
DTSTART;TZID=Europe/Berlin:20260607T170000
DTEND;TZID=Europe/Berlin:20260607T190000
DTSTAMP:20260419T180513
CREATED:20260317T165605Z
LAST-MODIFIED:20260317T165605Z
UID:2106-1780851600-1780858800@die-party-ritter.de
SUMMARY:Konzert zur 1150 Jahrfeier Kahla
DESCRIPTION:Mit einem stimmungsgeladenen Konzert sind wir bei der 1150 Jahrfeier in Kahla dabei \nmit dem Wirtshaus-Blech  100% LIVE !!!
URL:https://die-party-ritter.de/event/konzert-zur-1150-jahrfeier-kahla/
END:VEVENT
BEGIN:VEVENT
DTSTART;TZID=Europe/Berlin:20260613T110000
DTEND;TZID=Europe/Berlin:20260613T153000
DTSTAMP:20260419T180513
CREATED:20260317T170133Z
LAST-MODIFIED:20260317T170133Z
UID:2108-1781348400-1781364600@die-party-ritter.de
SUMMARY:56. Rolandsfest Norhausen
DESCRIPTION:Zum ersten Mal sind wir beim 56. Rolandsfest in Nordhausen dabei. \nmit dem Wirtshaus-Blech 100% LIVE !!!
URL:https://die-party-ritter.de/event/56-rolandsfest-norhausen/
END:VEVENT
BEGIN:VEVENT
DTSTART;TZID=Europe/Berlin:20260614T090000
DTEND;TZID=Europe/Berlin:20260614T130000
DTSTAMP:20260419T180513
CREATED:20260126T100925Z
LAST-MODIFIED:20260126T100925Z
UID:2071-1781427600-1781442000@die-party-ritter.de
SUMMARY:Jazzfrühstück Weißenfels
DESCRIPTION:und da gibt´s Frühstück mit der Ritter-Jatz-Bänd und das Ganze 100% LIVE
URL:https://die-party-ritter.de/event/jazzfruehstueck-weissenfels/
LOCATION:Bühne Bootsverleih\, Dammstraße 1\, Weißenfels\, 06667
END:VEVENT
BEGIN:VEVENT
DTSTART;TZID=Europe/Berlin:20260620T110000
DTEND;TZID=Europe/Berlin:20260620T160000
DTSTAMP:20260419T180513
CREATED:20260126T101245Z
LAST-MODIFIED:20260126T101245Z
UID:2073-1781953200-1781971200@die-party-ritter.de
SUMMARY:Hoffest der Agrargenossenschaft Bösleben
DESCRIPTION:…da sind wir wieder zum Hoffest der Agrargenossenschaft in Bösleben mit dem Wirtshaus-Blech   100 % LIVE !!!
URL:https://die-party-ritter.de/event/hoffest-der-agrargenossenschaft-boesleben-2/
LOCATION:Agrargenossenschaft Bösleben\, Ettischlebener Weg 19\, Bösleben-Wüllersleben\, 99310
END:VEVENT
BEGIN:VEVENT
DTSTART;TZID=Europe/Berlin:20260802T100000
DTEND;TZID=Europe/Berlin:20260802T143000
DTSTAMP:20260419T180513
CREATED:20260317T171345Z
LAST-MODIFIED:20260317T171345Z
UID:2110-1785664800-1785681000@die-party-ritter.de
SUMMARY:Traktortreffen Großmehlra
DESCRIPTION:Wir sind wieder dabei\, mit dem Wirtshaus-Blech  100% LIVE !!!
URL:https://die-party-ritter.de/event/traktortreffen-grossmehlra/
LOCATION:Fuhrmannschänke Großmehlra\, Hauptstraße 23\, Nottertal-Heilinger Höhen OT Großmehlra\, 99994
END:VEVENT
BEGIN:VEVENT
DTSTART;TZID=Europe/Berlin:20260821T173000
DTEND;TZID=Europe/Berlin:20260821T203000
DTSTAMP:20260419T180513
CREATED:20260126T102414Z
LAST-MODIFIED:20260126T102414Z
UID:2075-1787333400-1787344200@die-party-ritter.de
SUMMARY:Eröffnung Rudolstädter Vogelschießen
DESCRIPTION:wir sind wieder dabei\, zur Eröffnung des Rudolstädter Vogelschießens mit der Ritter-Jatz-Bänd  100 % LIVE !!!
URL:https://die-party-ritter.de/event/eroeffnung-rudolstaedter-vogelschiessen-3/
LOCATION:Rudolstädter Vogelschießen\, Röntgenstraße 2D\, Rudolstadt\, 07407
END:VEVENT
BEGIN:VEVENT
DTSTART;TZID=Europe/Berlin:20260829T130000
DTEND;TZID=Europe/Berlin:20260829T153000
DTSTAMP:20260419T180513
CREATED:20260126T103029Z
LAST-MODIFIED:20260126T103029Z
UID:2078-1788008400-1788017400@die-party-ritter.de
SUMMARY:Saalefest Weißenfels
DESCRIPTION:Das Saalefest steht an und wir sind dabei mit dem Wirthshaus-Blech  100 % LIVE
URL:https://die-party-ritter.de/event/saalefest-weissenfels-2/
LOCATION:Bühne Bootsverleih\, Dammstraße 1\, Weißenfels\, 06667
END:VEVENT
BEGIN:VEVENT
DTSTART;TZID=Europe/Berlin:20260905T130000
DTEND;TZID=Europe/Berlin:20260905T190000
DTSTAMP:20260419T180513
CREATED:20260126T103702Z
LAST-MODIFIED:20260126T103702Z
UID:2080-1788613200-1788634800@die-party-ritter.de
SUMMARY:Hoffest der Agrargesellschaft Griesheim
DESCRIPTION:wir sind dabei\, beim 35. Jubiläum und Hoffest der AG Griseheim\, das Wirtshaus-Blech 100% LIVE !!!
URL:https://die-party-ritter.de/event/hoffest-der-agrargesellschaft-griesheim/
LOCATION:Agrargesellschaft Griesheim\, Kleppergasse 1\, Stadtilm OT Griesheim\, 99326
END:VEVENT
BEGIN:VEVENT
DTSTART;TZID=Europe/Berlin:20260906T113000
DTEND;TZID=Europe/Berlin:20260906T163000
DTSTAMP:20260419T180513
CREATED:20260126T104402Z
LAST-MODIFIED:20260126T104402Z
UID:2084-1788694200-1788712200@die-party-ritter.de
SUMMARY:1150 Jahre Schwerborn
DESCRIPTION:Zur 1150 Jahrfeier sind wir\, das Wirtshaus-Blech 100 % LIVE !!! dabei
URL:https://die-party-ritter.de/event/1150-jahre-schwerborn/
LOCATION:Festplatz Schwerborn\, Stotternheimer Ch 1\, Erfurt OT Schwerborn\, 99195
END:VEVENT
BEGIN:VEVENT
DTSTART;TZID=Europe/Berlin:20260913T110000
DTEND;TZID=Europe/Berlin:20260913T150000
DTSTAMP:20260419T180513
CREATED:20260317T171821Z
LAST-MODIFIED:20260317T171821Z
UID:2113-1789297200-1789311600@die-party-ritter.de
SUMMARY:Saalfelder Bierfest
DESCRIPTION:…Lecker..Wir sind wieder dabei mit dem Wirthaus-Blech  100% LIVE !!!
URL:https://die-party-ritter.de/event/saalfelder-bierfest-2/
LOCATION:Marktplatz Saalfeld\, Marktplatz\, Saalfeld\, 07318
END:VEVENT
BEGIN:VEVENT
DTSTART;TZID=Europe/Berlin:20260926T103000
DTEND;TZID=Europe/Berlin:20260926T143000
DTSTAMP:20260419T180513
CREATED:20260407T121024Z
LAST-MODIFIED:20260407T121024Z
UID:2123-1790418600-1790433000@die-party-ritter.de
SUMMARY:Oktoberfest Erfurt
DESCRIPTION:und wieder sorgen wir beim Oktoberfest in Erfurt für Stimmung und lassen das Zelt auf dem Domplatz beben. \nDas Wirtshaus-Blech 100% LIVE
URL:https://die-party-ritter.de/event/oktoberfest-erfurt-3/
LOCATION:Oktoberfestzelt Domplatz\, Domplatz\, Erfurt\, 99087
END:VEVENT
BEGIN:VEVENT
DTSTART;TZID=Europe/Berlin:20260926T180000
DTEND;TZID=Europe/Berlin:20260926T180000
DTSTAMP:20260419T180513
CREATED:20260407T121511Z
LAST-MODIFIED:20260407T121511Z
UID:2125-1790445600-1790445600@die-party-ritter.de
SUMMARY:Oktoberfest Hohenheida
DESCRIPTION:wir freuen uns auf das Oktoberfest in Hohenheida bei Leipzig \nDas Wirtshaus-Blech 100 % LIVE !!!
URL:https://die-party-ritter.de/event/oktoberfest-hohenheida/
LOCATION:Gasthof Hohenheida\, Am Anger 42\, Leipzig\, 04356
END:VEVENT
BEGIN:VEVENT
DTSTART;TZID=Europe/Berlin:20261003T110000
DTEND;TZID=Europe/Berlin:20261003T180000
DTSTAMP:20260419T180513
CREATED:20260407T122134Z
LAST-MODIFIED:20260407T122134Z
UID:2129-1791025200-1791050400@die-party-ritter.de
SUMMARY:Herbstmarkt auf Gut Mößlitz
DESCRIPTION:Wir freuen uns auf dem Herbstmarkt dabei sein zu können. \nDas Wirtshaus-Blech 100% LIVE !!!
URL:https://die-party-ritter.de/event/herbstmarkt-auf-gut-moesslitz/
LOCATION:Gut Mößlitz\, Mößlitz 6\, Zörbig\, 06780
END:VEVENT
BEGIN:VEVENT
DTSTART;TZID=Europe/Berlin:20261003T200000
DTEND;TZID=Europe/Berlin:20261003T200000
DTSTAMP:20260419T180513
CREATED:20260407T122400Z
LAST-MODIFIED:20260407T122400Z
UID:2132-1791057600-1791057600@die-party-ritter.de
SUMMARY:Oktoberfest Hohenheida
DESCRIPTION:Oktoberfest Hohenheida die Zweite \nDas Wirtshaus-Blech 100 % LIVE !!!
URL:https://die-party-ritter.de/event/oktoberfest-hohenheida-2/
LOCATION:Gasthof Hohenheida\, Am Anger 42\, Leipzig\, 04356
END:VEVENT
BEGIN:VEVENT
DTSTART;TZID=Europe/Berlin:20261004T103000
DTEND;TZID=Europe/Berlin:20261004T153000
DTSTAMP:20260419T180513
CREATED:20260407T122632Z
LAST-MODIFIED:20260407T122632Z
UID:2134-1791109800-1791127800@die-party-ritter.de
SUMMARY:Oktoberfest Erfurt
DESCRIPTION:…und nochmal lassen wir das Oktoberfestzelt auf dem Domplatz beben \nDas Wirtshaus-Blech 100% LIVE !!!
URL:https://die-party-ritter.de/event/oktoberfest-erfurt-4/
LOCATION:Oktoberfestzelt Domplatz\, Domplatz\, Erfurt\, 99087
END:VEVENT
BEGIN:VEVENT
DTSTART;TZID=Europe/Berlin:20261009T110000
DTEND;TZID=Europe/Berlin:20261009T170000
DTSTAMP:20260419T180513
CREATED:20260407T122905Z
LAST-MODIFIED:20260407T122905Z
UID:2136-1791543600-1791565200@die-party-ritter.de
SUMMARY:Oktoberfest auf der Steinbrücke
DESCRIPTION:alle Jahre wieder freuen wir uns auf das Oktoberfest auf der Steinbrücke in Quedlinburg \nDas Wirtshaus-Blech 100% LIVE !!!
URL:https://die-party-ritter.de/event/oktoberfest-auf-der-steinbruecke-4/
LOCATION:Steinbrücke Quedlinburg\, Steinbrücke\, Quedlinburg\, 06484
END:VEVENT
BEGIN:VEVENT
DTSTART;TZID=Europe/Berlin:20261010T093000
DTEND;TZID=Europe/Berlin:20261010T150000
DTSTAMP:20260419T180513
CREATED:20260407T123140Z
LAST-MODIFIED:20260407T123140Z
UID:2138-1791624600-1791644400@die-party-ritter.de
SUMMARY:Oktoberfest auf der Steinbrücke
DESCRIPTION:die Zweite…Oktoberfest auf der Steinbrücke \nDas Wirtshaus-Blech 100 % LIVE !!!
URL:https://die-party-ritter.de/event/oktoberfest-auf-der-steinbruecke-5/
LOCATION:Steinbrücke Quedlinburg\, Steinbrücke\, Quedlinburg\, 06484
END:VEVENT
BEGIN:VEVENT
DTSTART;TZID=Europe/Berlin:20261010T180000
DTEND;TZID=Europe/Berlin:20261010T220000
DTSTAMP:20260419T180513
CREATED:20260407T123842Z
LAST-MODIFIED:20260407T123842Z
UID:2140-1791655200-1791669600@die-party-ritter.de
SUMMARY:1. Andislebener Wiesn
DESCRIPTION:Wir freuen uns unser Programm mit nach Andisleben zu bringen \nDas Wirtshaus-Blech 100% LIVE !!!
URL:https://die-party-ritter.de/event/1-andislebener-wiesn/
LOCATION:Festzelt Andisleben\, Erfurt Andisleben\, 99189
END:VEVENT
BEGIN:VEVENT
DTSTART;TZID=Europe/Berlin:20261017T200000
DTEND;TZID=Europe/Berlin:20261018T010000
DTSTAMP:20260419T180513
CREATED:20260407T145631Z
LAST-MODIFIED:20260407T145631Z
UID:2145-1792267200-1792285200@die-party-ritter.de
SUMMARY:Weißenfelser Oktoberfest
DESCRIPTION:Wir freuen uns auf das große Weißenfelser Oktoberfest \nmit dem Wirtshaus-Blech 100% LIVE !!! \n  \n…Kartenvorverkauf läuft bereits !!! \n\nShop \n\n 
URL:https://die-party-ritter.de/event/weissenfelser-oktoberfest/
LOCATION:Oktoberfestzelt Markt  Weißenfels\, Markt\, Weißenfels\, 06667
END:VEVENT
BEGIN:VEVENT
DTSTART;TZID=Europe/Berlin:20261025T100000
DTEND;TZID=Europe/Berlin:20261025T143000
DTSTAMP:20260419T180513
CREATED:20260407T145931Z
LAST-MODIFIED:20260407T145931Z
UID:2150-1792922400-1792938600@die-party-ritter.de
SUMMARY:Kirmesfrühschoppen Urbich
DESCRIPTION:und auch in diesem Jahr sind wir wieder dabei und sorgen für reichlich Stimmung \nmit dem Wirthsaus-Blech 100% LIVE
URL:https://die-party-ritter.de/event/kirmesfruehschoppen-urbich/
LOCATION:Urbicher Mehrzweckhalle\, Büßlebener Str. 17\, Erfurt\, 99198
END:VEVENT
BEGIN:VEVENT
DTSTART;TZID=Europe/Berlin:20261109T100000
DTEND;TZID=Europe/Berlin:20261109T170000
DTSTAMP:20260419T180513
CREATED:20260407T150300Z
LAST-MODIFIED:20260407T150300Z
UID:2152-1794218400-1794243600@die-party-ritter.de
SUMMARY:Kirmesfrühschoppen Büßleben
DESCRIPTION:Stimmunsgarantie baim Frühschoppen in Erfurt-Büßleben \nmit dem Wirtshaus-Blech 100% LIVE !!!
URL:https://die-party-ritter.de/event/kirmesfruehschoppen-buessleben/
LOCATION:Festhalle zum Jägerstein\, Zum Jägerstein\, Erfurt OT Büßleben\, 99098
END:VEVENT
END:VCALENDAR