BEGIN:VCALENDAR
VERSION:2.0
PRODID:-//Die Party Ritter - ECPv6.15.20//NONSGML v1.0//EN
CALSCALE:GREGORIAN
METHOD:PUBLISH
X-ORIGINAL-URL:https://die-party-ritter.de
X-WR-CALDESC:Veranstaltungen für Die Party Ritter
REFRESH-INTERVAL;VALUE=DURATION:PT1H
X-Robots-Tag:noindex
X-PUBLISHED-TTL:PT1H
BEGIN:VTIMEZONE
TZID:Europe/Berlin
BEGIN:DAYLIGHT
TZOFFSETFROM:+0100
TZOFFSETTO:+0200
TZNAME:CEST
DTSTART:20250330T010000
END:DAYLIGHT
BEGIN:STANDARD
TZOFFSETFROM:+0200
TZOFFSETTO:+0100
TZNAME:CET
DTSTART:20251026T010000
END:STANDARD
BEGIN:DAYLIGHT
TZOFFSETFROM:+0100
TZOFFSETTO:+0200
TZNAME:CEST
DTSTART:20260329T010000
END:DAYLIGHT
BEGIN:STANDARD
TZOFFSETFROM:+0200
TZOFFSETTO:+0100
TZNAME:CET
DTSTART:20261025T010000
END:STANDARD
BEGIN:DAYLIGHT
TZOFFSETFROM:+0100
TZOFFSETTO:+0200
TZNAME:CEST
DTSTART:20270328T010000
END:DAYLIGHT
BEGIN:STANDARD
TZOFFSETFROM:+0200
TZOFFSETTO:+0100
TZNAME:CET
DTSTART:20271031T010000
END:STANDARD
END:VTIMEZONE
BEGIN:VEVENT
DTSTART;TZID=Europe/Berlin:20260829T130000
DTEND;TZID=Europe/Berlin:20260829T153000
DTSTAMP:20260420T044810
CREATED:20260126T103029Z
LAST-MODIFIED:20260126T103029Z
UID:2078-1788008400-1788017400@die-party-ritter.de
SUMMARY:Saalefest Weißenfels
DESCRIPTION:Das Saalefest steht an und wir sind dabei mit dem Wirthshaus-Blech  100 % LIVE
URL:https://die-party-ritter.de/event/saalefest-weissenfels-2/
LOCATION:Bühne Bootsverleih\, Dammstraße 1\, Weißenfels\, 06667
END:VEVENT
END:VCALENDAR