BEGIN:VCALENDAR
VERSION:2.0
PRODID:-//Die Party Ritter - ECPv6.15.20//NONSGML v1.0//EN
CALSCALE:GREGORIAN
METHOD:PUBLISH
X-ORIGINAL-URL:https://die-party-ritter.de
X-WR-CALDESC:Veranstaltungen für Die Party Ritter
REFRESH-INTERVAL;VALUE=DURATION:PT1H
X-Robots-Tag:noindex
X-PUBLISHED-TTL:PT1H
BEGIN:VTIMEZONE
TZID:Europe/Berlin
BEGIN:DAYLIGHT
TZOFFSETFROM:+0100
TZOFFSETTO:+0200
TZNAME:CEST
DTSTART:20240331T010000
END:DAYLIGHT
BEGIN:STANDARD
TZOFFSETFROM:+0200
TZOFFSETTO:+0100
TZNAME:CET
DTSTART:20241027T010000
END:STANDARD
BEGIN:DAYLIGHT
TZOFFSETFROM:+0100
TZOFFSETTO:+0200
TZNAME:CEST
DTSTART:20250330T010000
END:DAYLIGHT
BEGIN:STANDARD
TZOFFSETFROM:+0200
TZOFFSETTO:+0100
TZNAME:CET
DTSTART:20251026T010000
END:STANDARD
BEGIN:DAYLIGHT
TZOFFSETFROM:+0100
TZOFFSETTO:+0200
TZNAME:CEST
DTSTART:20260329T010000
END:DAYLIGHT
BEGIN:STANDARD
TZOFFSETFROM:+0200
TZOFFSETTO:+0100
TZNAME:CET
DTSTART:20261025T010000
END:STANDARD
END:VTIMEZONE
BEGIN:VEVENT
DTSTART;TZID=Europe/Berlin:20251010T110000
DTEND;TZID=Europe/Berlin:20251010T173000
DTSTAMP:20260420T112120
CREATED:20241114T141607Z
LAST-MODIFIED:20241114T141607Z
UID:1969-1760094000-1760117400@die-party-ritter.de
SUMMARY:Oktoberfest auf der Steinbrücke die Erste
DESCRIPTION:…fast schon traditionell geht´s nach Quedlinburg zu 2 Tagen Oktoberfest
URL:https://die-party-ritter.de/event/oktoberfest-auf-der-steinbruecke-die-erste/
LOCATION:Steinbrücke Quedlinburg\, Steinbrücke\, Quedlinburg\, 06484
END:VEVENT
END:VCALENDAR