BEGIN:VCALENDAR
VERSION:2.0
PRODID:-//Die Party Ritter - ECPv6.15.20//NONSGML v1.0//EN
CALSCALE:GREGORIAN
METHOD:PUBLISH
X-ORIGINAL-URL:https://die-party-ritter.de
X-WR-CALDESC:Veranstaltungen für Die Party Ritter
REFRESH-INTERVAL;VALUE=DURATION:PT1H
X-Robots-Tag:noindex
X-PUBLISHED-TTL:PT1H
BEGIN:VTIMEZONE
TZID:Europe/Berlin
BEGIN:DAYLIGHT
TZOFFSETFROM:+0100
TZOFFSETTO:+0200
TZNAME:CEST
DTSTART:20240331T010000
END:DAYLIGHT
BEGIN:STANDARD
TZOFFSETFROM:+0200
TZOFFSETTO:+0100
TZNAME:CET
DTSTART:20241027T010000
END:STANDARD
BEGIN:DAYLIGHT
TZOFFSETFROM:+0100
TZOFFSETTO:+0200
TZNAME:CEST
DTSTART:20250330T010000
END:DAYLIGHT
BEGIN:STANDARD
TZOFFSETFROM:+0200
TZOFFSETTO:+0100
TZNAME:CET
DTSTART:20251026T010000
END:STANDARD
BEGIN:DAYLIGHT
TZOFFSETFROM:+0100
TZOFFSETTO:+0200
TZNAME:CEST
DTSTART:20260329T010000
END:DAYLIGHT
BEGIN:STANDARD
TZOFFSETFROM:+0200
TZOFFSETTO:+0100
TZNAME:CET
DTSTART:20261025T010000
END:STANDARD
END:VTIMEZONE
BEGIN:VEVENT
DTSTART;TZID=Europe/Berlin:20251005T100000
DTEND;TZID=Europe/Berlin:20251005T140000
DTSTAMP:20260420T112114
CREATED:20241009T144504Z
LAST-MODIFIED:20241009T144504Z
UID:1956-1759658400-1759672800@die-party-ritter.de
SUMMARY:Kirmesfrühschoppen Obermehler
DESCRIPTION:wir sind wieder dabei…Wirtshaus-Blech LIVE zum Frühschoppen in Obermehler
URL:https://die-party-ritter.de/event/kirmesfruehschoppen-obermehler/
LOCATION:Fuhrmannschänke Großmehlra\, Hauptstraße 23\, Nottertal-Heilinger Höhen OT Großmehlra\, 99994
END:VEVENT
END:VCALENDAR